BEGIN:VCALENDAR
VERSION:2.0
PRODID:-//Tukios.com/
BEGIN:VEVENT
UID:220ef0f7-40a9-4c99-88c0-deb964683ece@www.evergreenmemorygardens.com
DTSTAMP:20260425T233659Z
DTSTART:20260501T150000Z
DTEND:20260501T160000Z
SUMMARY:Funeral Service
DESCRIPTION:
URL:https://www.evergreenmemorygardens.com/obituaries/elizabeth-fitzpatrick
LOCATION: 829 High Street  Paris KY 40361
GEO:38.2095315;-84.254142
END:VEVENT
END:VCALENDAR