BEGIN:VCALENDAR
VERSION:2.0
PRODID:-//Tukios.com/
BEGIN:VEVENT
UID:7bb03c4c-5fb0-4c00-b5fe-d4ddcbabbb07@www.evergreenmemorygardens.com
DTSTAMP:20260425T233350Z
DTSTART:20260501T163000Z
DTEND:20260501T173000Z
SUMMARY:Graveside Service
DESCRIPTION:
URL:https://www.evergreenmemorygardens.com/obituaries/elizabeth-fitzpatrick
LOCATION: 5364 Lexington Road  Lexington KY 40511
GEO:38.1515462;-84.3416084
END:VEVENT
END:VCALENDAR