BEGIN:VCALENDAR
VERSION:2.0
PRODID:-//Tukios.com/
BEGIN:VEVENT
UID:2a36e746-3783-479d-82e9-5c37db5b3dfa@www.evergreenmemorygardens.com
DTSTAMP:20260421T165117Z
DTSTART:20260424T150000Z
DTEND:20260424T170000Z
SUMMARY:Visitation
DESCRIPTION:
URL:https://www.evergreenmemorygardens.com/obituaries/margaret-king
LOCATION: 526 Pleasant Street  Paris KY 40361
GEO:38.2103563;-84.2501074
END:VEVENT
END:VCALENDAR