BEGIN:VCALENDAR
VERSION:2.0
PRODID:-//Tukios.com/
BEGIN:VEVENT
UID:bf635cdf-278d-4c03-a36f-fbbb09c267ae@www.evergreenmemorygardens.com
DTSTAMP:20260421T165815Z
DTSTART:20260424T170000Z
DTEND:20260424T180000Z
SUMMARY:Funeral Service
DESCRIPTION:
URL:https://www.evergreenmemorygardens.com/obituaries/margaret-king
LOCATION: 526 Pleasant Street  Paris KY 40361
GEO:38.2103563;-84.2501074
END:VEVENT
END:VCALENDAR