BEGIN:VCALENDAR
VERSION:2.0
PRODID:-//Tukios.com/
BEGIN:VEVENT
UID:0dcb349a-b22d-497b-99fe-11b68221eff3@www.evergreenmemorygardens.com
DTSTAMP:20260421T165552Z
DTSTART:20260424T173000Z
DTEND:20260424T183000Z
SUMMARY:Burial
DESCRIPTION:
URL:https://www.evergreenmemorygardens.com/obituaries/margaret-king
LOCATION: 5364 Lexington Road  Lexington KY 40511
GEO:38.1515462;-84.3416084
END:VEVENT
END:VCALENDAR