BEGIN:VCALENDAR
VERSION:2.0
PRODID:-//Tukios.com/
BEGIN:VEVENT
UID:27bef1a7-5344-4bbd-a7fc-489271e66ca7@www.evergreenmemorygardens.com
DTSTAMP:20260424T223553Z
DTSTART:20260425T150000Z
DTEND:20260425T170000Z
SUMMARY:Visitation
DESCRIPTION:
URL:https://www.evergreenmemorygardens.com/obituaries/mary-ann-williams
LOCATION: 540 West Maxwell Street  Lexington KY 40508
GEO:38.0473637;-84.5060784
END:VEVENT
END:VCALENDAR