BEGIN:VCALENDAR
VERSION:2.0
PRODID:-//Tukios.com/
BEGIN:VEVENT
UID:058733ed-050b-45d0-a9bb-5960b49e7b62@www.evergreenmemorygardens.com
DTSTAMP:20260424T224149Z
DTSTART:20260425T170000Z
DTEND:20260425T180000Z
SUMMARY:Funeral Service
DESCRIPTION:
URL:https://www.evergreenmemorygardens.com/obituaries/mary-ann-williams
LOCATION: 540 West Maxwell Street  Lexington KY 40508
GEO:38.0473637;-84.5060784
END:VEVENT
END:VCALENDAR