BEGIN:VCALENDAR
VERSION:2.0
PRODID:-//Tukios.com/
BEGIN:VEVENT
UID:33f436a5-8e9c-43c1-ae92-c8eb9e8ce3a6@www.evergreenmemorygardens.com
DTSTAMP:20260424T223610Z
DTSTART:20260425T190000Z
DTEND:20260425T200000Z
SUMMARY:Graveside Service
DESCRIPTION:
URL:https://www.evergreenmemorygardens.com/obituaries/mary-ann-williams
LOCATION: 5364 Lexington Road  Lexington KY 40511
GEO:38.1515462;-84.3416084
END:VEVENT
END:VCALENDAR