BEGIN:VCALENDAR
VERSION:2.0
PRODID:-//Tukios.com/
BEGIN:VEVENT
UID:f19f67f5-bc3a-45d5-8b3a-a9de77d30e69@www.evergreenmemorygardens.com
DTSTAMP:20260421T165409Z
DTSTART:20260429T141500Z
DTEND:20260429T151500Z
SUMMARY:Visitation
DESCRIPTION:
URL:https://www.evergreenmemorygardens.com/obituaries/mary-lewis
LOCATION: 511 Thurman Drive  Lexington KY 40505
GEO:38.0755326;-84.4661219
END:VEVENT
END:VCALENDAR