BEGIN:VCALENDAR
VERSION:2.0
PRODID:-//Tukios.com/
BEGIN:VEVENT
UID:cb957b6f-94db-4020-bb8b-df6589dce6da@www.evergreenmemorygardens.com
DTSTAMP:20260421T165106Z
DTSTART:20260429T160000Z
DTEND:20260429T170000Z
SUMMARY:Funeral Service
DESCRIPTION:
URL:https://www.evergreenmemorygardens.com/obituaries/mary-lewis
LOCATION: 511 Thurman Drive  Lexington KY 40505
GEO:38.0755326;-84.4661219
END:VEVENT
END:VCALENDAR