BEGIN:VCALENDAR
VERSION:2.0
PRODID:-//Tukios.com/
BEGIN:VEVENT
UID:a666584d-478e-4534-b963-776e2b01d56d@www.evergreenmemorygardens.com
DTSTAMP:20260421T165035Z
DTSTART:20260429T183000Z
DTEND:20260429T193000Z
SUMMARY:Graveside Service
DESCRIPTION:
URL:https://www.evergreenmemorygardens.com/obituaries/mary-lewis
LOCATION: 5364 Lexington Road  Lexington KY 40511
GEO:38.1515462;-84.3416084
END:VEVENT
END:VCALENDAR